BEGIN:VCALENDAR
VERSION:2.0
PRODID:-//ChatGPT//i-Tree Office Hours//EN
BEGIN:VTIMEZONE
TZID:America/New_York
BEGIN:DAYLIGHT
TZOFFSETFROM:-0500
TZOFFSETTO:-0400
TZNAME:EDT
DTSTART:19700308T020000
RRULE:FREQ=YEARLY;BYMONTH=3;BYDAY=SU;BYSETPOS=2
END:DAYLIGHT
BEGIN:STANDARD
TZOFFSETFROM:-0400
TZOFFSETTO:-0500
TZNAME:EST
DTSTART:19701101T020000
RRULE:FREQ=YEARLY;BYMONTH=11;BYDAY=SU;BYSETPOS=1
END:STANDARD
END:VTIMEZONE
BEGIN:VEVENT
UID:itree-office-hours-20260420@example.com
DTSTAMP:20260420T120000Z
DTSTART;TZID=America/New_York:20260514T140000
DTEND;TZID=America/New_York:20260514T150000
SUMMARY:i-Tree Office Hours
DESCRIPTION:Join the i-Tree Support Team every 2nd Thursday of the month at 2pm ET via Teams. This is an open format opportunity to get live support and answers to your questions..\nClick to join: https://teams.microsoft.com/l/meetup-join/19:meeting_MTMxM2YzYzUtNjI2NC00ZTJjLThlOGQtNTJhNWIwM2FlZmE1@thread.v2/0?context=%7B%22Tid%22:%22c4a8639a-d5a9-4b9a-aa77-c15cb9c9b6b2%22,%22Oid%22:%229f41c69e-7225-485e-8bb5-deaf7835cb75%22%7D
LOCATION:Microsoft Teams Meeting
URL:https://teams.microsoft.com/l/meetup-join/19:meeting_MTMxM2YzYzUtNjI2NC00ZTJjLThlOGQtNTJhNWIwM2FlZmE1@thread.v2/0?context=%7B%22Tid%22:%22c4a8639a-d5a9-4b9a-aa77-c15cb9c9b6b2%22,%22Oid%22:%229f41c69e-7225-485e-8bb5-deaf7835cb75%22%7D
RRULE:FREQ=MONTHLY;BYDAY=TH;BYSETPOS=2;UNTIL=20261231T235959Z
END:VEVENT
END:VCALENDAR